BEGIN:VCALENDAR
VERSION:2.0
PRODID:-//wp-events-plugin.com//6.3//EN
TZID:America/Los_Angeles
X-WR-TIMEZONE:America/Los_Angeles
BEGIN:VEVENT
UID:527@rcnv.org
DTSTART;TZID=America/Los_Angeles:20260425T163000
DTEND;TZID=America/Los_Angeles:20260425T163000
DTSTAMP:20260420T185240Z
URL:https://rcnv.org/events/the-anti-defamation-league-and-the-racial-stat
 e-a-book-talk-with-emmaia-gelman/
SUMMARY:The Anti-Defamation League and the Racial State: A Book Talk with E
 mmaia Gelman
DESCRIPTION:Emmaia Gelman exposes the ADL’s alliance with American white 
 supremacy and western empire and its historic investment in Cold War antic
 ommunism. Her definitive account shows how the ADL as a Zionist organizati
 on has advanced and supported pro-state policing\, a hate-crimes framework
  that obscures racialized structures of power\, and a “War on Terror” 
 that has stoked anti-Palestinian racism and Islamophobia. Join us for this
  free\, public book talk\, cosponsored by the Institute for the Critical S
 tudy of Zionism\, the Center for Racial Justice\, RCNV\, and others. Click
  HERE for details &amp\; RSVP.\n\n&nbsp\;
ATTACH;FMTTYPE=image/jpeg:https://i0.wp.com/rcnv.org/wp-content/uploads/20
 26/04/Emmaia-Gelman-Book-Talk.jpg?fit=1080%2C1350&ssl=1
CATEGORIES:Antiracism,Beloved Community,Middle
 East,Nonviolence,Palestine,Politics,Racial Equity,Resisting Militarism
LOCATION:Resource Center for Nonviolence\, 612 Ocean St.\, Santa Cruz\, CA\
 , 95060\, United States
X-APPLE-STRUCTURED-LOCATION;VALUE=URI;X-ADDRESS=612 Ocean St.\, Santa Cruz\
 , CA\, 95060\, United States;X-APPLE-RADIUS=100;X-TITLE=Resource Center fo
 r Nonviolence:geo:0,0
END:VEVENT
BEGIN:VTIMEZONE
TZID:America/Los_Angeles
X-LIC-LOCATION:America/Los_Angeles
BEGIN:DAYLIGHT
DTSTART:20260308T030000
TZOFFSETFROM:-0800
TZOFFSETTO:-0700
TZNAME:PDT
END:DAYLIGHT
END:VTIMEZONE
END:VCALENDAR